BEGIN:VCALENDAR
VERSION:2.0
PRODID:spatie/icalendar-generator
DESCRIPTION:Events from CVMIC
X-WR-CALDESC:Events from CVMIC
REFRESH-INTERVAL;VALUE=DURATION:PT1440M
X-PUBLISHED-TTL:PT1440M
BEGIN:VTIMEZONE
TZID:America/Chicago
BEGIN:STANDARD
DTSTART:20251102T020000Z
TZOFFSETFROM:-0500
TZOFFSETTO:-0600
END:STANDARD
BEGIN:DAYLIGHT
DTSTART:20260308T020000Z
TZOFFSETFROM:-0600
TZOFFSETTO:-0500
END:DAYLIGHT
END:VTIMEZONE
BEGIN:VTIMEZONE
TZID:UTC
BEGIN:STANDARD
DTSTART:20250728T055225Z
TZOFFSETFROM:+0000
TZOFFSETTO:+0000
END:STANDARD
END:VTIMEZONE
BEGIN:VEVENT
UID:224-203
DTSTAMP:20260424T055225Z
SUMMARY:Leadership (Soft Skills) (ELM2D2) (Virtual)
LOCATION:Zoom
ORGANIZER;CN=Alyssa Johnson:MAILTO:alyssaj@cvmic.com
DTSTART;TZID=America/Chicago:20260421T090000
DTEND;TZID=America/Chicago:20260421T120000
X-ALT-DESC;FMTTYPE=TEXT/HTML:Non-Member Fee: $100 After enrolling\, you wil
 l receive an invoice via email\, that will need to be paid in order to att
 end training.  If you would like to register for this training\, please l
 og into Neogov to access Learn. Once in Learn\, search this course withi
 n the Course Catalog\, select the class instance and hit “Enroll”. If&amp;
 hellip\;
CATEGORIES:Virtual
URL;VALUE=URI:https://www.cvmic.com/mc-events/leadership-soft-skills-elm2d2
 -virtual-4/
METHOD:PUBLISH
END:VEVENT
END:VCALENDAR