BEGIN:VCALENDAR
VERSION:2.0
PRODID:spatie/icalendar-generator
DESCRIPTION:Events from CVMIC
X-WR-CALDESC:Events from CVMIC
REFRESH-INTERVAL;VALUE=DURATION:PT1440M
X-PUBLISHED-TTL:PT1440M
BEGIN:VTIMEZONE
TZID:America/Chicago
BEGIN:STANDARD
DTSTART:20251102T020000Z
TZOFFSETFROM:-0500
TZOFFSETTO:-0600
END:STANDARD
BEGIN:DAYLIGHT
DTSTART:20260308T020000Z
TZOFFSETFROM:-0600
TZOFFSETTO:-0500
END:DAYLIGHT
BEGIN:STANDARD
DTSTART:20261101T020000Z
TZOFFSETFROM:-0500
TZOFFSETTO:-0600
END:STANDARD
END:VTIMEZONE
BEGIN:VTIMEZONE
TZID:UTC
BEGIN:STANDARD
DTSTART:20250728T065317Z
TZOFFSETFROM:+0000
TZOFFSETTO:+0000
END:STANDARD
END:VTIMEZONE
BEGIN:VEVENT
UID:256-235
DTSTAMP:20260424T065317Z
SUMMARY:Chainsaw 101: Chainsaw Safety and Use for Beginners (In-Person)
LOCATION:CVMIC  9898 West Bluemound Road  Wauwatosa WI 53226
ORGANIZER;CN=Alyssa Johnson:MAILTO:alyssaj@cvmic.com
DTSTART;TZID=America/Chicago:20260519T083000
DTEND;TZID=America/Chicago:20260519T150000
X-ALT-DESC;FMTTYPE=TEXT/HTML:Non-Member Class Fee: $200 If you would like t
 o register for this training\, please log into Neogov to access Learn. O
 nce in Learn\, search this course within the Course Catalog\, select the c
 lass instance and hit “Enroll”. CVMIC will provide a continental break
 fast and lunch as part of the training day. If you have food allergies or&amp;
 hellip\;
CATEGORIES:In-Person
URL;VALUE=URI:https://www.cvmic.com/mc-events/chainsaw-101-chainsaw-safety-
 and-use-for-beginners-in-person-3/
METHOD:PUBLISH
END:VEVENT
END:VCALENDAR