BEGIN:VCALENDAR
VERSION:2.0
PRODID:spatie/icalendar-generator
DESCRIPTION:Events from CVMIC
X-WR-CALDESC:Events from CVMIC
REFRESH-INTERVAL;VALUE=DURATION:PT1440M
X-PUBLISHED-TTL:PT1440M
BEGIN:VTIMEZONE
TZID:America/Chicago
BEGIN:STANDARD
DTSTART:20251102T020000Z
TZOFFSETFROM:-0500
TZOFFSETTO:-0600
END:STANDARD
BEGIN:DAYLIGHT
DTSTART:20260308T020000Z
TZOFFSETFROM:-0600
TZOFFSETTO:-0500
END:DAYLIGHT
END:VTIMEZONE
BEGIN:VTIMEZONE
TZID:UTC
BEGIN:STANDARD
DTSTART:20250728T054850Z
TZOFFSETFROM:+0000
TZOFFSETTO:+0000
END:STANDARD
END:VTIMEZONE
BEGIN:VEVENT
UID:260-238
DTSTAMP:20260424T054850Z
SUMMARY:Human Resources Roundtable (Hybrid Event)
LOCATION:
ORGANIZER;CN=Alyssa Johnson:MAILTO:alyssaj@cvmic.com
DTSTART;TZID=America/Chicago:20260414T090000
DTEND;TZID=America/Chicago:20260414T143000
X-ALT-DESC;FMTTYPE=TEXT/HTML:Cost:  Free to members and Non-Members HYBRI
 D (in-person at CVMIC and Zoom) Breakfast\, (post-event) networking lunch\
 , and beverages will be provided for in-person attendees.  Lunch will be 
 served around noon.  All in-person and Virtual attendees are welcome to r
 ejoin for further discussion after lunch until 2:30pm. Description: This r
 oundtable training program is designed to address topics&amp;hellip\;
CATEGORIES:Hybrid
URL;VALUE=URI:https://www.cvmic.com/mc-events/human-resources-roundtable-hy
 brid-event-3/
METHOD:PUBLISH
END:VEVENT
END:VCALENDAR