BEGIN:VCALENDAR
VERSION:2.0
PRODID:spatie/icalendar-generator
DESCRIPTION:Events from CVMIC
X-WR-CALDESC:Events from CVMIC
REFRESH-INTERVAL;VALUE=DURATION:PT1440M
X-PUBLISHED-TTL:PT1440M
BEGIN:VTIMEZONE
TZID:America/Chicago
BEGIN:STANDARD
DTSTART:20251102T020000Z
TZOFFSETFROM:-0500
TZOFFSETTO:-0600
END:STANDARD
BEGIN:DAYLIGHT
DTSTART:20260308T020000Z
TZOFFSETFROM:-0600
TZOFFSETTO:-0500
END:DAYLIGHT
BEGIN:STANDARD
DTSTART:20261101T020000Z
TZOFFSETFROM:-0500
TZOFFSETTO:-0600
END:STANDARD
END:VTIMEZONE
BEGIN:VTIMEZONE
TZID:UTC
BEGIN:STANDARD
DTSTART:20250728T055140Z
TZOFFSETFROM:+0000
TZOFFSETTO:+0000
END:STANDARD
END:VTIMEZONE
BEGIN:VEVENT
UID:226-205
DTSTAMP:20260424T055140Z
SUMMARY:Coaching and Feedback (ELM1D2) (In-Person)
LOCATION:CVMIC  9898 West Bluemound Road  Wauwatosa WI 53226
ORGANIZER;CN=Alyssa Johnson:MAILTO:alyssaj@cvmic.com
DTSTART;TZID=America/Chicago:20260505T083000
DTEND;TZID=America/Chicago:20260505T150000
X-ALT-DESC;FMTTYPE=TEXT/HTML:Non-Member Fee: $100 After enrolling\, you wil
 l receive an invoice via email\, that will need to be paid in order to att
 end training. If you would like to register for this training\, please log
  into Neogov to access Learn. Once in Learn\, search this course within 
 the Course Catalog\, select the class instance and hit “Enroll”. CVMIC
 &amp;hellip\;
CATEGORIES:In-Person
URL;VALUE=URI:https://www.cvmic.com/mc-events/coaching-and-feedback-elm1d2-
 in-person-2/
METHOD:PUBLISH
END:VEVENT
END:VCALENDAR