BEGIN:VCALENDAR
VERSION:2.0
PRODID:spatie/icalendar-generator
DESCRIPTION:Events from CVMIC
X-WR-CALDESC:Events from CVMIC
REFRESH-INTERVAL;VALUE=DURATION:PT1440M
X-PUBLISHED-TTL:PT1440M
BEGIN:VTIMEZONE
TZID:America/Chicago
BEGIN:STANDARD
DTSTART:20251102T020000Z
TZOFFSETFROM:-0500
TZOFFSETTO:-0600
END:STANDARD
BEGIN:DAYLIGHT
DTSTART:20260308T020000Z
TZOFFSETFROM:-0600
TZOFFSETTO:-0500
END:DAYLIGHT
END:VTIMEZONE
BEGIN:VTIMEZONE
TZID:UTC
BEGIN:STANDARD
DTSTART:20250728T044305Z
TZOFFSETFROM:+0000
TZOFFSETTO:+0000
END:STANDARD
END:VTIMEZONE
BEGIN:VEVENT
UID:266-243
DTSTAMP:20260424T044305Z
SUMMARY:Library Roundtable (Virtual Event)
LOCATION:CVMIC  9898 West Bluemound Road  Wauwatosa WI 53226
ORGANIZER;CN=Alyssa Johnson:MAILTO:alyssaj@cvmic.com
DTSTART;TZID=America/Chicago:20260429T090000
DTEND;TZID=America/Chicago:20260429T113000
X-ALT-DESC;FMTTYPE=TEXT/HTML:Cost: Free to Members and non-members Descrip
 tion: This roundtable training program is designed to address topics that
  are both timely and relevant to Library professionals. The roundtable wil
 l be a combination of speakers that will share their expertise on various 
 topics and group discussions. It will also include group discussion where 
 attendees share their comments\, questions\, and&amp;hellip\;
CATEGORIES:Virtual
URL;VALUE=URI:https://www.cvmic.com/mc-events/library-roundtable-virtual-ev
 ent/
METHOD:PUBLISH
END:VEVENT
END:VCALENDAR