BEGIN:VCALENDAR
VERSION:2.0
PRODID:spatie/icalendar-generator
DESCRIPTION:Events from CVMIC
X-WR-CALDESC:Events from CVMIC
REFRESH-INTERVAL;VALUE=DURATION:PT1440M
X-PUBLISHED-TTL:PT1440M
BEGIN:VTIMEZONE
TZID:America/Chicago
BEGIN:STANDARD
DTSTART:20251102T020000Z
TZOFFSETFROM:-0500
TZOFFSETTO:-0600
END:STANDARD
BEGIN:DAYLIGHT
DTSTART:20260308T020000Z
TZOFFSETFROM:-0600
TZOFFSETTO:-0500
END:DAYLIGHT
BEGIN:STANDARD
DTSTART:20261101T020000Z
TZOFFSETFROM:-0500
TZOFFSETTO:-0600
END:STANDARD
END:VTIMEZONE
BEGIN:VTIMEZONE
TZID:UTC
BEGIN:STANDARD
DTSTART:20250728T055122Z
TZOFFSETFROM:+0000
TZOFFSETTO:+0000
END:STANDARD
END:VTIMEZONE
BEGIN:VEVENT
UID:268-245
DTSTAMP:20260424T055122Z
SUMMARY:Public Playground Safety &amp;amp\; Inspections (In-Person)
LOCATION:CVMIC  9898 West Bluemound Road  Wauwatosa WI 53226
ORGANIZER;CN=Alyssa Johnson:MAILTO:alyssaj@cvmic.com
DTSTART;TZID=America/Chicago:20260520T083000
DTEND;TZID=America/Chicago:20260520T153000
X-ALT-DESC;FMTTYPE=TEXT/HTML:NON-MEMBER FEE: $100 This course will provide 
 participants with the skills and knowledge needed to develop an effective 
 playground safety program. This includes playground site selection\, layou
 t considerations\, surfacing selection and maintenance\, selecting appropr
 iate playground equipment\, inspection of playground equipment\, identifyi
 ng hazards on playground equipment\, and general playground equipment main
 tenance. This class is led by&amp;hellip\;
CATEGORIES:In-Person
URL;VALUE=URI:https://www.cvmic.com/mc-events/public-playground-safety-insp
 ections-in-person-3/
METHOD:PUBLISH
END:VEVENT
END:VCALENDAR