BEGIN:VCALENDAR
VERSION:2.0
PRODID:spatie/icalendar-generator
DESCRIPTION:Events from CVMIC
X-WR-CALDESC:Events from CVMIC
REFRESH-INTERVAL;VALUE=DURATION:PT1440M
X-PUBLISHED-TTL:PT1440M
BEGIN:VTIMEZONE
TZID:America/Chicago
BEGIN:STANDARD
DTSTART:20251102T020000Z
TZOFFSETFROM:-0500
TZOFFSETTO:-0600
END:STANDARD
BEGIN:DAYLIGHT
DTSTART:20260308T020000Z
TZOFFSETFROM:-0600
TZOFFSETTO:-0500
END:DAYLIGHT
END:VTIMEZONE
BEGIN:VTIMEZONE
TZID:UTC
BEGIN:STANDARD
DTSTART:20250728T044305Z
TZOFFSETFROM:+0000
TZOFFSETTO:+0000
END:STANDARD
END:VTIMEZONE
BEGIN:VEVENT
UID:276-253
DTSTAMP:20260424T044305Z
SUMMARY:Park &amp;amp\; Recreation Roundtable (Spring) - New this year - Hybrid
 !
LOCATION:CVMIC  9898 West Bluemound Road  Wauwatosa WI 53226
ORGANIZER;CN=Alyssa Johnson:MAILTO:alyssaj@cvmic.com
DTSTART;TZID=America/Chicago:20260417T090000
DTEND;TZID=America/Chicago:20260417T143000
X-ALT-DESC;FMTTYPE=TEXT/HTML:Free for Members and Non-Members This training
  will consist of speakers and open discussion on various topics in relatio
 n to the Parks and Recreation profession. This roundtable training program
  is designed to address topics that are both timely and relevant to profes
 sionals in the Park and Recreation field. The roundtable will be a combina
 tion of&amp;hellip\;
CATEGORIES:Hybrid
URL;VALUE=URI:https://www.cvmic.com/mc-events/park-recreation-roundtable-sp
 ring-new-this-year-hybrid/
METHOD:PUBLISH
END:VEVENT
END:VCALENDAR