BEGIN:VCALENDAR
VERSION:2.0
PRODID:spatie/icalendar-generator
DESCRIPTION:Events from CVMIC
X-WR-CALDESC:Events from CVMIC
REFRESH-INTERVAL;VALUE=DURATION:PT1440M
X-PUBLISHED-TTL:PT1440M
BEGIN:VTIMEZONE
TZID:America/Chicago
BEGIN:STANDARD
DTSTART:20251102T020000Z
TZOFFSETFROM:-0500
TZOFFSETTO:-0600
END:STANDARD
BEGIN:DAYLIGHT
DTSTART:20260308T020000Z
TZOFFSETFROM:-0600
TZOFFSETTO:-0500
END:DAYLIGHT
END:VTIMEZONE
BEGIN:VTIMEZONE
TZID:UTC
BEGIN:STANDARD
DTSTART:20250728T044257Z
TZOFFSETFROM:+0000
TZOFFSETTO:+0000
END:STANDARD
END:VTIMEZONE
BEGIN:VEVENT
UID:283-259
DTSTAMP:20260424T044257Z
SUMMARY:Work Zone and Certified Flagger (Regional Program In-Person in GREE
 NVILLE\, WI)
LOCATION:Greenville\, WI W6860 Parkview Dr.  Greenville WI 54942
ORGANIZER;CN=Alyssa Johnson:MAILTO:alyssaj@cvmic.com
DTSTART;TZID=America/Chicago:20260407T083000
DTEND;TZID=America/Chicago:20260407T150000
X-ALT-DESC;FMTTYPE=TEXT/HTML:Non-Member Class Fee: $100.00 THIS IS A REGION
 AL CLASS HELD IN GREENVILLE\, WI.  All CVMIC Members are welcome to regis
 ter for and attend this class. Employees who work in traffic face many haz
 ards. The more they understand and apply work zone traffic control techniq
 ues\, the safer they will be. This program will be an informational&amp;hellip
 \;
CATEGORIES:In-Person
URL;VALUE=URI:https://www.cvmic.com/mc-events/work-zone-and-certified-flagg
 er-regional-program-in-person-in-greenville-wi/
METHOD:PUBLISH
END:VEVENT
END:VCALENDAR