BEGIN:VCALENDAR
VERSION:2.0
PRODID:spatie/icalendar-generator
DESCRIPTION:Events from CVMIC
X-WR-CALDESC:Events from CVMIC
REFRESH-INTERVAL;VALUE=DURATION:PT1440M
X-PUBLISHED-TTL:PT1440M
BEGIN:VTIMEZONE
TZID:America/Chicago
BEGIN:STANDARD
DTSTART:20251102T020000Z
TZOFFSETFROM:-0500
TZOFFSETTO:-0600
END:STANDARD
BEGIN:DAYLIGHT
DTSTART:20260308T020000Z
TZOFFSETFROM:-0600
TZOFFSETTO:-0500
END:DAYLIGHT
END:VTIMEZONE
BEGIN:VTIMEZONE
TZID:UTC
BEGIN:STANDARD
DTSTART:20250728T044306Z
TZOFFSETFROM:+0000
TZOFFSETTO:+0000
END:STANDARD
END:VTIMEZONE
BEGIN:VEVENT
UID:289-265
DTSTAMP:20260424T044306Z
SUMMARY:VIRTUAL EVENT:  Overcoming AI Stigma
LOCATION:Virtual Event - Zoom
ORGANIZER;CN=Alyssa Johnson:MAILTO:alyssaj@cvmic.com
DTSTART;TZID=America/Chicago:20260408T090000
DTEND;TZID=America/Chicago:20260408T103000
X-ALT-DESC;FMTTYPE=TEXT/HTML:Free to Members and non-members This training 
 program empowers local government professionals to confidently and ethical
 ly integrate AI into their social media and communication workflows. Parti
 cipants learn how AI can streamline content creation\, improve accessibili
 ty\, and enhance community engagement—while still maintaining the irrepl
 aceable value of human judgment and oversight. The program breaks down com
 mon misconceptions&amp;hellip\;
CATEGORIES:Virtual
URL;VALUE=URI:https://www.cvmic.com/mc-events/virtual-event-overcoming-ai-s
 tigma/
METHOD:PUBLISH
END:VEVENT
END:VCALENDAR